BEGIN:VCALENDAR
VERSION:2.0
PRODID:-//Tampereen Pursiseura - ECPv6.15.13//NONSGML v1.0//EN
CALSCALE:GREGORIAN
METHOD:PUBLISH
X-ORIGINAL-URL:https://taps.fi
X-WR-CALDESC:Tapahtumat Tampereen Pursiseura
REFRESH-INTERVAL;VALUE=DURATION:PT1H
X-Robots-Tag:noindex
X-PUBLISHED-TTL:PT1H
BEGIN:VTIMEZONE
TZID:Europe/Helsinki
BEGIN:DAYLIGHT
TZOFFSETFROM:+0200
TZOFFSETTO:+0300
TZNAME:EEST
DTSTART:20160327T010000
END:DAYLIGHT
BEGIN:STANDARD
TZOFFSETFROM:+0300
TZOFFSETTO:+0200
TZNAME:EET
DTSTART:20161030T010000
END:STANDARD
BEGIN:DAYLIGHT
TZOFFSETFROM:+0200
TZOFFSETTO:+0300
TZNAME:EEST
DTSTART:20170326T010000
END:DAYLIGHT
BEGIN:STANDARD
TZOFFSETFROM:+0300
TZOFFSETTO:+0200
TZNAME:EET
DTSTART:20171029T010000
END:STANDARD
BEGIN:DAYLIGHT
TZOFFSETFROM:+0200
TZOFFSETTO:+0300
TZNAME:EEST
DTSTART:20180325T010000
END:DAYLIGHT
BEGIN:STANDARD
TZOFFSETFROM:+0300
TZOFFSETTO:+0200
TZNAME:EET
DTSTART:20181028T010000
END:STANDARD
BEGIN:DAYLIGHT
TZOFFSETFROM:+0200
TZOFFSETTO:+0300
TZNAME:EEST
DTSTART:20190331T010000
END:DAYLIGHT
BEGIN:STANDARD
TZOFFSETFROM:+0300
TZOFFSETTO:+0200
TZNAME:EET
DTSTART:20191027T010000
END:STANDARD
BEGIN:DAYLIGHT
TZOFFSETFROM:+0200
TZOFFSETTO:+0300
TZNAME:EEST
DTSTART:20200329T010000
END:DAYLIGHT
BEGIN:STANDARD
TZOFFSETFROM:+0300
TZOFFSETTO:+0200
TZNAME:EET
DTSTART:20201025T010000
END:STANDARD
BEGIN:DAYLIGHT
TZOFFSETFROM:+0200
TZOFFSETTO:+0300
TZNAME:EEST
DTSTART:20210328T010000
END:DAYLIGHT
BEGIN:STANDARD
TZOFFSETFROM:+0300
TZOFFSETTO:+0200
TZNAME:EET
DTSTART:20211031T010000
END:STANDARD
BEGIN:DAYLIGHT
TZOFFSETFROM:+0200
TZOFFSETTO:+0300
TZNAME:EEST
DTSTART:20220327T010000
END:DAYLIGHT
BEGIN:STANDARD
TZOFFSETFROM:+0300
TZOFFSETTO:+0200
TZNAME:EET
DTSTART:20221030T010000
END:STANDARD
BEGIN:DAYLIGHT
TZOFFSETFROM:+0200
TZOFFSETTO:+0300
TZNAME:EEST
DTSTART:20230326T010000
END:DAYLIGHT
BEGIN:STANDARD
TZOFFSETFROM:+0300
TZOFFSETTO:+0200
TZNAME:EET
DTSTART:20231029T010000
END:STANDARD
BEGIN:DAYLIGHT
TZOFFSETFROM:+0200
TZOFFSETTO:+0300
TZNAME:EEST
DTSTART:20240331T010000
END:DAYLIGHT
BEGIN:STANDARD
TZOFFSETFROM:+0300
TZOFFSETTO:+0200
TZNAME:EET
DTSTART:20241027T010000
END:STANDARD
BEGIN:DAYLIGHT
TZOFFSETFROM:+0200
TZOFFSETTO:+0300
TZNAME:EEST
DTSTART:20250330T010000
END:DAYLIGHT
BEGIN:STANDARD
TZOFFSETFROM:+0300
TZOFFSETTO:+0200
TZNAME:EET
DTSTART:20251026T010000
END:STANDARD
BEGIN:DAYLIGHT
TZOFFSETFROM:+0200
TZOFFSETTO:+0300
TZNAME:EEST
DTSTART:20260329T010000
END:DAYLIGHT
BEGIN:STANDARD
TZOFFSETFROM:+0300
TZOFFSETTO:+0200
TZNAME:EET
DTSTART:20261025T010000
END:STANDARD
END:VTIMEZONE
BEGIN:VEVENT
DTSTART;TZID=Europe/Helsinki:20250510T070000
DTEND;TZID=Europe/Helsinki:20250510T200000
DTSTAMP:20260419T194637
CREATED:20250208T180324Z
LAST-MODIFIED:20250210T075259Z
UID:33460-1746860400-1746907200@taps.fi
SUMMARY:Veneiden lasku 10.5.2025
DESCRIPTION:Ennakkotietona TaPS:n veneilykausi 2025 alkaa veneiden laskulla la 10.5.2025 klo 07.00 alkaen. \nTiedotamme aikaisempien vuosien tapaan veneiden laskusta lähempänä ajankohtaa.
URL:https://taps.fi/tapsin-tapahtuma/veneiden-lasku-10-5-2025/
LOCATION:Naistenlahti\, Kekkosenkatu 10\, Tampere\, Finland
END:VEVENT
BEGIN:VEVENT
DTSTART;TZID=Europe/Helsinki:20250504T170000
DTEND;TZID=Europe/Helsinki:20250504T200000
DTSTAMP:20260419T194637
CREATED:20250415T193712Z
LAST-MODIFIED:20250415T193712Z
UID:34048-1746378000-1746388800@taps.fi
SUMMARY:Tuulta purjeisiin -kokeilutapahtuma
DESCRIPTION:Tuulta purjeisiin -tapahtumassa kaikki pääsevät vesille! \nMiltä tuntuisi olla tuulen viemänä? Oletko aina halunnut kokeilla purjehtimista? Tämä on mahdollista Tampereen Pursiseuran avoimessa ja maksuttomassa Tuulta purjeisiin -tapahtumapäivissä. Tapahtumissa purjehdusta pääsevät kokeilemaan niin lapset ja nuoret kuin aikuiset purjehdusohjaajien huolellisessa valvonnassa ja opastuksessa. \nTuulta purjeisiin -tapahtumapäivät ovat tiistaina 29.4. klo 17–20 ja sunnuntaina 4.5. klo 17–20. Tampereen Pursiseuralla\, Kekkosenkatu 10. \nPurjehduskokeiluun kannattaa varautua säänkestävällä vaatetuksella sekä pienellä vaihtovaatenipulla kastumisen varalta. Muut tarvittavat varusteet\, kuten pelastusliivit\, saat tapahtumasta lainaksi. \nSeura on kävelymatkan päässä keskustasta ja pihassa on muutamia ilmaisia pysäköintipaikkoja. \nTervetuloa tutustumana purjehdukseen TaPSilla!
URL:https://taps.fi/tapsin-tapahtuma/tuulta-purjeisiin-kokeilutapahtuma/
LOCATION:Naistenlahti\, Kekkosenkatu 10\, Tampere\, Finland
END:VEVENT
BEGIN:VEVENT
DTSTART;TZID=Europe/Helsinki:20250429T170000
DTEND;TZID=Europe/Helsinki:20250429T200000
DTSTAMP:20260419T194637
CREATED:20250415T193452Z
LAST-MODIFIED:20250415T193452Z
UID:34044-1745946000-1745956800@taps.fi
SUMMARY:Tuulta purjeisiin -purjehduksen kokeilutapahtuma
DESCRIPTION:Tuulta purjeisiin -tapahtumassa kaikki pääsevät vesille! \nMiltä tuntuisi olla tuulen viemänä? Oletko aina halunnut kokeilla purjehtimista? Tämä on mahdollista Tampereen Pursiseuran avoimessa ja maksuttomassa Tuulta purjeisiin -tapahtumapäivissä. Tapahtumissa purjehdusta pääsevät kokeilemaan niin lapset ja nuoret kuin aikuiset purjehdusohjaajien huolellisessa valvonnassa ja opastuksessa. \nTuulta purjeisiin -tapahtumapäivät ovat tiistaina 29.4. klo 17–20 ja sunnuntaina 4.5. klo 17–20. Tampereen Pursiseuralla\, Kekkosenkatu 10. \nPurjehduskokeiluun kannattaa varautua säänkestävällä vaatetuksella sekä pienellä vaihtovaatenipulla kastumisen varalta. Muut tarvittavat varusteet\, kuten pelastusliivit\, saat tapahtumasta lainaksi. \nSeura on kävelymatkan päässä keskustasta ja pihassa on muutamia ilmaisia pysäköintipaikkoja. \nTervetuloa tutustumaan purjehdukseen TaPSilla!
URL:https://taps.fi/tapsin-tapahtuma/tuulta-purjeisiin-purjehduksen-kokeilutapahtuma/
LOCATION:Naistenlahti\, Kekkosenkatu 10\, Tampere\, Finland
END:VEVENT
BEGIN:VEVENT
DTSTART;TZID=Europe/Helsinki:20250416T180000
DTEND;TZID=Europe/Helsinki:20250416T200000
DTSTAMP:20260419T194637
CREATED:20250208T175051Z
LAST-MODIFIED:20250331T175046Z
UID:33458-1744826400-1744833600@taps.fi
SUMMARY:Kevätkokous 2025
DESCRIPTION:Tampereen Pursiseuran sääntömääräinen kevätkokous. Jäsenille on lähetetty sähköpostilla kutsu kevätkokoukseen\, jos kävi niin ikävästi ettet saanut kutsua kokoukseen olethan yhteydessä jäsenrekisterivastaavaan. \nTampereen Pursiseura Ry:n sääntömääräinen kevätkokous pidetään keskiviikkona 16.4.2025 kello 18:00 alkaen seurapaviljongilla. \nYhdistyksen kevätkokouksessa käsitellään seuraavat asiat: \n\nKokouksen avaus\nValitaan kokouksen puheenjohtaja\, sihteeri ja kaksi pöytäkirjantarkastajaa\, jotka tarvittaessa toimivat myös ääntenlaskijoina\nTodetaan laillisesti kokoon kutsutuksi ja päätösvaltaiseksi\nHyväksytään kokouksen esityslista\nEsitetään tilinpäätös\, vuosikertomus ja tilintarkastajien lausunto\nPäätetään tilinpäätöksen vahvistamisesta ja vastuuvapauden myöntämisestä hallitukselle ja muille vastuuvelvollisille\nValitaan kaksi jäsentä vaalitoimikuntaan\, jonka tulee antaa jäsenistölle tiedoksi ehdotus syyskokouksessa käsiteltäviä henkilövalintoja varten vähintään kahta viikkoa ennen kokousta\nMuut asiat\nKokouksen päättäminen\n\nKahvitarjoilu. \nTervetuloa päättämään seuran yhteisistä asioista!
URL:https://taps.fi/tapsin-tapahtuma/kevatkokous-2025/
LOCATION:Seuramaja\, Kekkosenkatu 10\, Tampere\, Finland
END:VEVENT
BEGIN:VEVENT
DTSTART;TZID=Europe/Helsinki:20250319T180000
DTEND;TZID=Europe/Helsinki:20250319T200000
DTSTAMP:20260419T194637
CREATED:20241024T085646Z
LAST-MODIFIED:20250306T204226Z
UID:32552-1742407200-1742414400@taps.fi
SUMMARY:Teemailta: purjetrimmaus PERUTTU
DESCRIPTION:Teemailta on peruttu estymisen vuoksi\, pahoittelemme tapahtunutta!
URL:https://taps.fi/tapsin-tapahtuma/teemailta-purjetrimmaus/
LOCATION:Seuramaja\, Kekkosenkatu 10\, Tampere\, Finland
END:VEVENT
BEGIN:VEVENT
DTSTART;TZID=Europe/Helsinki:20250218T180000
DTEND;TZID=Europe/Helsinki:20250218T200000
DTSTAMP:20260419T194637
CREATED:20241024T085515Z
LAST-MODIFIED:20241024T085823Z
UID:32550-1739901600-1739908800@taps.fi
SUMMARY:Teemailta: lithium-akut veneessä
DESCRIPTION:Alustajana Matti-Pekka Falck
URL:https://taps.fi/tapsin-tapahtuma/teemailta-lithium-akut-veneessa/
LOCATION:Seuramaja\, Kekkosenkatu 10\, Tampere\, Finland
END:VEVENT
BEGIN:VEVENT
DTSTART;TZID=Europe/Helsinki:20250121T180000
DTEND;TZID=Europe/Helsinki:20250121T200000
DTSTAMP:20260419T194637
CREATED:20241024T085309Z
LAST-MODIFIED:20241024T085803Z
UID:32547-1737482400-1737489600@taps.fi
SUMMARY:Teemailta: veneen sähkötekniikka
DESCRIPTION:Alustajana Jere Luukkanen
URL:https://taps.fi/tapsin-tapahtuma/veneen-sahkotekniikka/
LOCATION:Seuramaja\, Kekkosenkatu 10\, Tampere\, Finland
END:VEVENT
BEGIN:VEVENT
DTSTART;TZID=Europe/Helsinki:20241127T180000
DTEND;TZID=Europe/Helsinki:20241127T210000
DTSTAMP:20260419T194637
CREATED:20241024T091444Z
LAST-MODIFIED:20241024T091643Z
UID:32555-1732730400-1732741200@taps.fi
SUMMARY:Retkimuistelot
DESCRIPTION:
URL:https://taps.fi/tapsin-tapahtuma/retkimuistelot/
LOCATION:Seuramaja\, Kekkosenkatu 10\, Tampere\, Finland
END:VEVENT
BEGIN:VEVENT
DTSTART;TZID=Europe/Helsinki:20241119T180000
DTEND;TZID=Europe/Helsinki:20241119T200000
DTSTAMP:20260419T194637
CREATED:20241024T085143Z
LAST-MODIFIED:20241024T085737Z
UID:32545-1732039200-1732046400@taps.fi
SUMMARY:Teemailta: “hämähäkki veneessä”
DESCRIPTION:“Hämähäkki veneessä” – Vauriot lasikuituveneessä – onko syytä olla huolissaan?\nAlustajana Matti Valolahti
URL:https://taps.fi/tapsin-tapahtuma/hamahakki-veneessa/
LOCATION:Seuramaja\, Kekkosenkatu 10\, Tampere\, Finland
END:VEVENT
BEGIN:VEVENT
DTSTART;TZID=Europe/Helsinki:20241113T180000
DTEND;TZID=Europe/Helsinki:20241113T200000
DTSTAMP:20260419T194637
CREATED:20241009T082800Z
LAST-MODIFIED:20241028T153734Z
UID:32496-1731520800-1731528000@taps.fi
SUMMARY:Syyskokous
DESCRIPTION:Kutsu syyskokoukseen
URL:https://taps.fi/tapsin-tapahtuma/syyskokous/
END:VEVENT
BEGIN:VEVENT
DTSTART;TZID=Europe/Helsinki:20241026T100000
DTEND;TZID=Europe/Helsinki:20241026T160000
DTSTAMP:20260419T194637
CREATED:20241008T064412Z
LAST-MODIFIED:20241008T064412Z
UID:32484-1729936800-1729958400@taps.fi
SUMMARY:Taulaniemi talviteloille -talkoot
DESCRIPTION:Lisätiedot: https://taps.fi/taulaniemi-talviteloille-talkoot-26-10-2024/
URL:https://taps.fi/tapsin-tapahtuma/taulaniemi-talviteloille-talkoot/
END:VEVENT
BEGIN:VEVENT
DTSTART;TZID=Europe/Helsinki:20241010T180000
DTEND;TZID=Europe/Helsinki:20241010T210000
DTSTAMP:20260419T194637
CREATED:20240925T054127Z
LAST-MODIFIED:20240925T054127Z
UID:32380-1728583200-1728594000@taps.fi
SUMMARY:Lipunlasku ja palkintojenjako
DESCRIPTION:Torstaina 10.10. klo 18 järjestetään lipunlaskutilaisuus ja palkintojenjako. Tervetuloa mukaan\, ennakkoilmoittautumista ei tarvita. Kahvitarjoilu.
URL:https://taps.fi/tapsin-tapahtuma/lipunlasku-ja-palkintojenjako-2/
END:VEVENT
BEGIN:VEVENT
DTSTART;TZID=Europe/Helsinki:20241005T070000
DTEND;TZID=Europe/Helsinki:20241005T200000
DTSTAMP:20260419T194638
CREATED:20240906T214508Z
LAST-MODIFIED:20240925T072023Z
UID:32253-1728111600-1728158400@taps.fi
SUMMARY:Veneiden nosto
DESCRIPTION:07:00 – 20:00
URL:https://taps.fi/tapsin-tapahtuma/veneiden-nosto/
LOCATION:Naistenlahti\, Kekkosenkatu 10\, Tampere\, Finland
END:VEVENT
BEGIN:VEVENT
DTSTART;TZID=Europe/Helsinki:20240928T110000
DTEND;TZID=Europe/Helsinki:20240928T180000
DTSTAMP:20260419T194638
CREATED:20240907T084436Z
LAST-MODIFIED:20240907T084524Z
UID:32280-1727521200-1727546400@taps.fi
SUMMARY:K-18-Kisa
DESCRIPTION:Perinteinen retkipurjehduskauden päättävä  K18-kisa (entinen Isot Pojat) lähtee Naistenlahdesta ja päättyy Taulaniemeen\, jossa saunotaan ja kerrataan kaikki kesän tapahtumat musisoiden\, grillaillen ja aikuisille sopivia juomiakin maistellen. \nK-18 2024
URL:https://taps.fi/tapsin-tapahtuma/k-18-2024/
LOCATION:Naistenlahti – Taulaniemi\, Tampere\, Finland
END:VEVENT
BEGIN:VEVENT
DTSTART;VALUE=DATE:20240921
DTEND;VALUE=DATE:20240923
DTSTAMP:20260419T194638
CREATED:20240906T214619Z
LAST-MODIFIED:20240908T175247Z
UID:32257-1726876800-1727049599@taps.fi
SUMMARY:J/70 Ranking Tampere
DESCRIPTION:Kauden neljäs J/70 Ranking kisataan Näsijärvellä 21.-22.9.2024. Lisätietoja kilpailusta sekä ilmoittautuminen: Manage2Sail  \nOsallistumismaksu maksetaan TaPS:n verkkokaupassa
URL:https://taps.fi/tapsin-tapahtuma/j-70-ranking-fleet-j-70/
LOCATION:Näsijärvi\, Tampere\, Finland
END:VEVENT
BEGIN:VEVENT
DTSTART;TZID=Europe/Helsinki:20240919T180000
DTEND;TZID=Europe/Helsinki:20240919T193000
DTSTAMP:20260419T194638
CREATED:20240912T062511Z
LAST-MODIFIED:20240912T062511Z
UID:32316-1726768800-1726774200@taps.fi
SUMMARY:Tapahtumatoimikunnan kokous
DESCRIPTION:Tervetuloa suunnittelemaan syksyn tapahtumia ja ottamaan vastaan tehtäviä mm veneen nosto kahvioon ja lipun lasku juhlaan. Kokoonnumme jossakin sopivassa sopessa seuramajalla Naistenlahdessa 19.9.2024 klo 18:00. Kuviot ovat vuosien saatossa aika pitkälle hiottuja joten pyörää ei ole pakko keksiä uudelleen\, mutta voi keksiä jos uusia ideoita on. \nTEA
URL:https://taps.fi/tapsin-tapahtuma/tapahtumatoimikunnan-kokous/
LOCATION:Seuramaja\, Kekkosenkatu 10\, Tampere\, Finland
END:VEVENT
BEGIN:VEVENT
DTSTART;VALUE=DATE:20240914
DTEND;VALUE=DATE:20240916
DTSTAMP:20260419T194638
CREATED:20240906T214816Z
LAST-MODIFIED:20240906T214816Z
UID:32260-1726272000-1726444799@taps.fi
SUMMARY:Opti-Ranking + kadetti (optimisti)
DESCRIPTION:
URL:https://taps.fi/tapsin-tapahtuma/opti-ranking-kadetti-optimisti/
LOCATION:Näsijärvi\, Tampere\, Finland
END:VEVENT
BEGIN:VEVENT
DTSTART;VALUE=DATE:20240907
DTEND;VALUE=DATE:20240908
DTSTAMP:20260419T194638
CREATED:20240906T214858Z
LAST-MODIFIED:20240906T214858Z
UID:32263-1725667200-1725753599@taps.fi
SUMMARY:Syysrievä (FinRating)
DESCRIPTION:
URL:https://taps.fi/tapsin-tapahtuma/syysrieva-finrating/
LOCATION:Näsijärvi\, Tampere\, Finland
END:VEVENT
BEGIN:VEVENT
DTSTART;TZID=Europe/Helsinki:20170804T173000
DTEND;TZID=Europe/Helsinki:20170804T203000
DTSTAMP:20260419T194638
CREATED:20170704T095349Z
LAST-MODIFIED:20170704T095349Z
UID:6409-1501867800-1501878600@taps.fi
SUMMARY:Eskaaderipurjehdus
DESCRIPTION:Kommodorin perässä kohti Taulaniemeä.
URL:https://taps.fi/tapsin-tapahtuma/eskaaderipurjehdus/
LOCATION:Naistenlahti – Taulaniemi\, Tampere\, Finland
END:VEVENT
END:VCALENDAR